BEGIN:VCALENDAR
VERSION:2.0
PRODID:https://github.com/derhansen/sf_event_mgt
METHOD:PUBLISH
BEGIN:VEVENT
UID:10795-569@www.maine-et-loire.fr
CLASS: PUBLIC
SUMMARY:Ciné-Débat « Êtres en transition, le vivant nous questionne »
DESCRIPTION:🎥 Étriché en transition et Rives du Loir en Transition vou
 s invitent à la projection du film "Êtres en transition, le vivant nous 
 questionne" de François Stuck suivi d'un débat, en présence du réalisa
 teur.\n\n🌍 Partons ensemble à la rencontre de ceux qui montrent, par l
 eurs actions et leurs initiatives, qu'il est possible d'entrer en transiti
 on en prenant en compte les dimensions sociales, environnementales, et éc
 onomiques dans nos modes de vie.\n\n👥 Biologistes, éleveurs, marin-pê
 cheur, juristes, philosophes, citoyens et citoyennes, tous et toutes sont 
 acteurs du changement !\n\nVoici un petit lien pour vous donnez envie... :
  https://vimeo.com/498421104\n\n👉 Rdv vendredi 2 février à 20h au Cin
 éma PAX de Tiercé !\n\n🎩 Entrée libre, participation au chapeau
LOCATION:Cinéma PAX, 14 Rue du Bourg Joly, 49125 Tiercé
DTSTAMP:20240111T145636Z
DTSTART:20240201T230000Z
DTEND:20240201T230000Z
END:VEVENT
END:VCALENDAR