BEGIN:VCALENDAR
VERSION:2.0
PRODID:https://github.com/derhansen/sf_event_mgt
METHOD:PUBLISH
BEGIN:VEVENT
UID:13657-570@www.maine-et-loire.fr
CLASS: PUBLIC
SUMMARY:Coffre
DESCRIPTION:Sur scène, un grand coffre à jouets s’ouvre… et c’est t
 out un monde qui prend vie. Laurent Fraunié manipule avec dextérité obj
 ets et marionnettes pour raconter l’imaginaire de l'enfance.
LOCATION:
DTSTAMP:20250624T123317Z
DTSTART:20260512T220000Z
DTEND:20260512T220000Z
END:VEVENT
END:VCALENDAR