BEGIN:VCALENDAR
VERSION:2.0
PRODID:https://github.com/derhansen/sf_event_mgt
METHOD:PUBLISH
BEGIN:VEVENT
UID:15325-569@www.maine-et-loire.fr
CLASS: PUBLIC
SUMMARY:Collecte de graines de haies bocagères
DESCRIPTION:Animation 123 balades ! de l'association Horizon Bocage\n\nVene
 z découvrir les vieilles haies bocagères du chemillois, et nous aider à
  collecter des graines. Les graines serviront à faire pousser de nouveaux
  arbres et de nouvelles haies. Des haies 100% locales, plus résilientes f
 ace au changement climatique.
LOCATION:Cossé d'Anjou
Lieu exact précisé ultérieurement
DTSTAMP:20260423T095737Z
DTSTART:20260915T220000Z
DTEND:20260915T220000Z
END:VEVENT
END:VCALENDAR