BEGIN:VCALENDAR
VERSION:2.0
PRODID:https://github.com/derhansen/sf_event_mgt
METHOD:PUBLISH
BEGIN:VEVENT
UID:14757-611@www.maine-et-loire.fr
CLASS: PUBLIC
SUMMARY:Communes et extraordinaires
DESCRIPTION:Dans le cadre des Rendez-vous nature 2026.\n\nDÃ©ambulation bot
 anique pour sâ€™arrÃªter sur les plantes du quotidien, qui se rÃ©vÃ¨lent Ã
 ªtre pleines de surprises. Savez-vous que les racines de la bÃ©toine ont u
 n goÃ»t prononcÃ© de clous de girofle ? Ou que les fruits du gaillet gratt
 eron torrÃ©fiÃ©s sont un excellent succÃ©danÃ© du cafÃ© (qui est de la mÃª
 me famille du reste) ? Zoom sur lâ€™infraordinaire, pour dÃ©couvrir de faÃ
 §on amusante quâ€™il est possible de sâ€™Ã©merveiller avec des plantes du 
 quotidien.
LOCATION:Parking du Pont BarrÃ©
DTSTAMP:20260209T152734Z
DTSTART:20260605T115539Z
DTEND:20260605T115539Z
END:VEVENT
END:VCALENDAR