BEGIN:VCALENDAR
VERSION:2.0
PRODID:https://github.com/derhansen/sf_event_mgt
METHOD:PUBLISH
BEGIN:VEVENT
UID:15324-569@www.maine-et-loire.fr
CLASS: PUBLIC
SUMMARY:Concert de la Maîtrise de la Cathédrale d'Angers
DESCRIPTION:Une très belle rencontre musicale à Angers se prépare !\n\nL
 a Maîtrise de la Cathédrale d’Angers reçoit la Maîtrise de la Cathé
 drale de Lyon pour un concert unique.\n\nAu programme : Mozart, Schubert, 
 Fauré, Nanino, Dubra, Stopford, Rutter...\n\nDirection Sylvain Rousseau e
 t Simon Heberle.
LOCATION:Cathédrale d'Angers 
Place Monseigneur Chappoulie
DTSTAMP:20260422T082721Z
DTSTART:20260508T220000Z
DTEND:20260508T220000Z
END:VEVENT
END:VCALENDAR