BEGIN:VCALENDAR
VERSION:2.0
PRODID:https://github.com/derhansen/sf_event_mgt
METHOD:PUBLISH
BEGIN:VEVENT
UID:15086-569@www.maine-et-loire.fr
CLASS: PUBLIC
SUMMARY:Concert des Mardis Musicaux
DESCRIPTION:Symphonie des Oiseaux\n\nGeneviÃ¨ve Laurenceau, violon - Lidija
  Bizjak, piano\n\nJean Boucault et Johnny Rasse, siffleurs dâ€™oiseau\n\nE
 xtraits dâ€™Å“uvres de Granados â€“ BartÃ³k â€“ Vaughan â€“ Kreisler â€“ S
 atie Schubert â€“ Saint-SaÃ«ns â€“ Stravinsky â€“ Casals â€“ Debussy â€“ T
 chaÃ¯kovski\n\nMultiforme, ce programme fait Ã©cho aux nombreuses inspirat
 ions naturalistes de compositeurs de tous Ã¢ges. Au long dâ€™une Ã©volutio
 n thÃ©matique en quatre parties, Ã©voquant tour Ã  tour le rÃ©veil de la n
 ature, le sommeil des sens, les danses de lâ€™amour et la rÃ©demption par 
 la mort, les artistes retraceront les quatre Ã¢ges dâ€™une vie humaine, co
 ntrepointÃ©e par des chants dâ€™oiseaux qui se rÃ©vÃ¨lent Ãªtre le fil con
 ducteur original de ce rÃ©cital.\n\nJean Boucault et Johnny Rasse se sont 
 emparÃ©s du chant dâ€™oiseau pour crÃ©er un genre musical Ã  part entiÃ¨re
 . Ils Ã©pousent la matiÃ¨re sonore mÃªme du chant afin de la reproduire au
  plus prÃ¨s du cri originel. Leur interprÃ©tation Ã©tonne, suggÃ¨re, elle 
 relie lâ€™ici et lâ€™ailleurs, lâ€™Ã©phÃ©mÃ¨re et lâ€™immuable. Avec Lidij
 a Bizjak, pianiste, et GeneviÃ¨ve Laurenceau, violoniste, ils ont imaginÃ©
  un spectacle musical qui unit le rÃ©pertoire classique et lâ€™interprÃ©ta
 tion des chants dâ€™oiseaux du monde. Cette alliance offre une Ã©coute aut
 re Ã  lâ€™auditeur-spectateur. Dans ce rÃ©cit musical Ã  quatre instrument
 s, seront Ã©voquÃ©s lâ€™amour, les danses nuptiales, les rÃªves, la mortâ€
 ¦ Un voyage intemporel, sans frontiÃ¨res.
LOCATION:Grand ThÃ©Ã¢tre d'Angers
Place du ralliement
DTSTAMP:20260210T154921Z
DTSTART:20260519T220000Z
DTEND:20260519T220000Z
END:VEVENT
END:VCALENDAR