BEGIN:VCALENDAR
VERSION:2.0
PRODID:https://github.com/derhansen/sf_event_mgt
METHOD:PUBLISH
BEGIN:VEVENT
UID:15179-569@www.maine-et-loire.fr
CLASS: PUBLIC
SUMMARY:Concert d’exception: Simon Shaheen, Nai Barghouti & Ensemble
DESCRIPTION:Le 4 juin 2026 à 20h, l’association Al Kamandjati vous donne
  rendez-vous aux Greniers Saint-Jean d’Angers pour une soirée musicale 
 d’exception placée sous le signe de la grande tradition arabe.\n\nÀ ce
 tte occasion, nous aurons l’honneur d’accueillir le grand maestro Simo
 n Shaheen, figure majeure de la musique arabe contemporaine et référence
  internationale du oud et du violon. Sa présence à Angers s’inscrit da
 ns un événement historique : l’organisation, par l’association Al Ka
 mandjati en étroite collaboration avec lui, de la première Université d
 e musique arabe en France, qu’il dirigera artistiquement du 30 mai au 6 
 juin 2026.\n\nPour ce concert exceptionnel, Simon Shaheen sera entouré de
  musiciens comptant parmi les plus remarquables de leur génération, tous
  également professeurs à l’Université de musique arabe: Mohammed Alha
 bbash (oud), Nizar Rohana (oud), Ramzi Aburedwan (bouzouq), Layth Siddiq (
 violon), Khalil Khoury (qanun), Mohamed Najem (nay), Iyad Abulaila (percus
 sions) et Fayçal El Mezouar (violon). Ils seront rejoints par la grande c
 hanteuse palestinienne Nai Barghouti, dont la voix singulière et virtuose
  incarne avec force et sensibilité l’âme du répertoire arabe.\n\nEnse
 mble, ils proposeront un programme de musique classique arabe, célébrant
  la richesse, la profondeur et la modernité d’un patrimoine musical tra
 nsmis et réinventé par des artistes d’exception. Une soirée rare, à 
 la croisée de la transmission et du dialogue culturel.
LOCATION:Greniers Saint-Jean
Pl. du Tertre Saint-Laurent
DTSTAMP:20260311T085404Z
DTSTART:20260603T220000Z
DTEND:20260603T220000Z
END:VEVENT
END:VCALENDAR