BEGIN:VCALENDAR
VERSION:2.0
PRODID:https://github.com/derhansen/sf_event_mgt
METHOD:PUBLISH
BEGIN:VEVENT
UID:13749-570@www.maine-et-loire.fr
CLASS: PUBLIC
SUMMARY:Concert ensemble vocal SegrĂ©
DESCRIPTION:InterprĂ©tation du Requiem pour les vivants de Dan Forrest. Câ€
 ™est une Ĺ“uvre chorale contemporaine qui se distingue par sa profondeur Ă
 ©motionnelle, sa complexitĂ© harmonique, et son message spirituel.
LOCATION:Ă‰glise Notre Dame dâ€™Orveau
Nyoiseau
DTSTAMP:20250701T071533Z
DTSTART:20260530T220000Z
DTEND:20260530T220000Z
END:VEVENT
END:VCALENDAR