BEGIN:VCALENDAR
VERSION:2.0
PRODID:https://github.com/derhansen/sf_event_mgt
METHOD:PUBLISH
BEGIN:VEVENT
UID:15315-569@www.maine-et-loire.fr
CLASS: PUBLIC
SUMMARY:Concert Â« L'Amour dans tous ses Ã©tats Â» par le Choeur d'Hommes d'Anjou et la chorale Foligammes
DESCRIPTION:D'Azur et d'Or vous prÃ©sente, le 23 mai 2026 Ã  20 h, un Ã©vÃ©
 nement musical Ã  Montreuil-Bellay.\n\nAprÃ¨s le concert des Mille ans, le
  Â«Â ChÅ“ur d'hommes d'AnjouÂ Â» revient Ã  La CollÃ©giale accompagnÃ© par
  le ChÅ“ur de Femmes Â«Â FoligammesÂ Â» pour un concert partagÃ© sur le th
 Ã¨me de l'Amour dans tous ses Ã©tatsÂ . De l'amour divin Ã  l'amour filial
 , de l'amour rejetÃ© Ã  l'amour partagÃ©, de l'amour sÃ©duction Ã  l'amour
  cÃ©lÃ©bration.\n\nRÃ©unissant 70 choristes, les 2 chÅ“urs Â«Â Tous en scÃ
 ¨ne Â» seront Ã  la disposition de leur Cheffe, Irina Nikonovich, qui alte
 rnera ou unira leurs chants avec une ponctuation de textes choisis et dits
  par des rÃ©citants d'Azur et d'Or.
LOCATION:CollÃ©giale Notre-Dame
157 rue des douves
DTSTAMP:20260420T100201Z
DTSTART:20260522T220000Z
DTEND:20260522T220000Z
END:VEVENT
END:VCALENDAR