BEGIN:VCALENDAR
VERSION:2.0
PRODID:https://github.com/derhansen/sf_event_mgt
METHOD:PUBLISH
BEGIN:VEVENT
UID:14693-611@www.maine-et-loire.fr
CLASS: PUBLIC
SUMMARY:Contes de la nature
DESCRIPTION:Dans le cadre des Rendez-vous nature 2026.\n\nDéambulation et 
 atelier dessin. Des oisillons dans leur nid, un ver de terre dans sa galer
 ie, des fleurs par-ci par-là... poussez la porte de la nature et on verra
 . Des contes et un atelier pour sensibiliser les enfants à leur environne
 ment sur un Espace naturel sensible.\n\nDe 3 à 6 ans.
LOCATION:Maison de l'environnement
DTSTAMP:20260209T151143Z
DTSTART:20260422T115539Z
DTEND:20260422T115539Z
END:VEVENT
END:VCALENDAR