BEGIN:VCALENDAR
VERSION:2.0
PRODID:https://github.com/derhansen/sf_event_mgt
METHOD:PUBLISH
BEGIN:VEVENT
UID:14750-611@www.maine-et-loire.fr
CLASS: PUBLIC
SUMMARY:Contes et sérigraphie
DESCRIPTION:Dans le cadre des Rendez-vous nature 2026.\n\nUne balade avec d
 es histoires pour découvrir les secrets de plantes et arbres du bord de L
 oire. Puis, découvrez la sérigraphie et créez une œuvre imprimée avec
  des encres végétales.
LOCATION:Cale de la Loire
Rue de la Bastille
Le Fresne-sur-Loire
DTSTAMP:20260209T152623Z
DTSTART:20260530T115539Z
DTEND:20260530T115539Z
END:VEVENT
END:VCALENDAR