BEGIN:VCALENDAR
VERSION:2.0
PRODID:https://github.com/derhansen/sf_event_mgt
METHOD:PUBLISH
BEGIN:VEVENT
UID:14922-611@www.maine-et-loire.fr
CLASS: PUBLIC
SUMMARY:Contes et sérigraphie
DESCRIPTION:Dans le cadre des Rendez-vous nature 2026.\n\nUne balade avec d
 es histoires pour détecter les secrets de plantes et arbres du bord de Lo
 ire. Puis, découvrez la sérigraphie et créez une œuvre imprimée avec 
 des encres végétales.
LOCATION:Maison de l'environnement
DTSTAMP:20260209T154743Z
DTSTART:20261028T125540Z
DTEND:20261028T125540Z
END:VEVENT
END:VCALENDAR