BEGIN:VCALENDAR
VERSION:2.0
PRODID:https://github.com/derhansen/sf_event_mgt
METHOD:PUBLISH
BEGIN:VEVENT
UID:13685-570@www.maine-et-loire.fr
CLASS: PUBLIC
SUMMARY:Coquilles
DESCRIPTION:Une pièce pour la petite enfance mêlant danse contemporaine e
 t hip-hop. Porté par les contes et chants sénégalais, le chorégraphe o
 uvre un monde où musique et mouvement éveillent l’imaginaire.
LOCATION:Le Dôme
Place de la Bilange
DTSTAMP:20260126T075253Z
DTSTART:20260519T220000Z
DTEND:20260519T220000Z
END:VEVENT
END:VCALENDAR