BEGIN:VCALENDAR
VERSION:2.0
PRODID:https://github.com/derhansen/sf_event_mgt
METHOD:PUBLISH
BEGIN:VEVENT
UID:14820-611@www.maine-et-loire.fr
CLASS: PUBLIC
SUMMARY:Couleurs de la nature
DESCRIPTION:Dans le cadre des Rendez-vous nature 2026.\n\nLa nature nous of
 fre un panel de couleurs incroyable ! Réapprenez à observer l'environnem
 ent qui vous entoure. Une balade guidée ainsi qu'une découverte botaniqu
 e vous seront d'abord proposées, puis un atelier de fabrication de peintu
 re naturelle vous attend.\n\nLes enfants doivent obligatoirement être acc
 ompagnés par un adulte. Prévoir de vieux vêtements ou des blouses pour 
 les enfants.
LOCATION:Maison Pêche Nature
DTSTAMP:20260209T153542Z
DTSTART:20260716T115539Z
DTEND:20260716T115539Z
END:VEVENT
END:VCALENDAR