BEGIN:VCALENDAR
VERSION:2.0
PRODID:https://github.com/derhansen/sf_event_mgt
METHOD:PUBLISH
BEGIN:VEVENT
UID:14930-569@www.maine-et-loire.fr
CLASS: PUBLIC
SUMMARY:Course Nature du Bioparc
DESCRIPTION:Petits et grands, chaussez vos baskets pour un rendez-vous spor
 tif au profit des actions de conservation du Bioparc avec le Racing Club D
 ouessin ! Les parcours pour enfants et adultes traversent le zoo et la com
 mune de Doué-en-Anjou.
LOCATION:Bioparc de Doué-la-Fontaine 
103 Rue de Cholet
DTSTAMP:20260122T085810Z
DTSTART:20261114T230000Z
DTEND:20261114T230000Z
END:VEVENT
END:VCALENDAR