BEGIN:VCALENDAR
VERSION:2.0
PRODID:https://github.com/derhansen/sf_event_mgt
METHOD:PUBLISH
BEGIN:VEVENT
UID:15040-1587@www.maine-et-loire.fr
CLASS: PUBLIC
SUMMARY:Création 7
DESCRIPTION:Tiphaine Raffier présente en avant-première sa nouvelle créa
 tion : un thriller sur le contrôle, le temps et le pluralisme des percept
 ions. Une histoire qui se dessine entre les murs d’un huis clos angoissa
 nt.
LOCATION:Le Quai CDN
Cale de la Savatte
DTSTAMP:20260203T134852Z
DTSTART:20260602T170000Z
DTEND:20260604T180000Z
END:VEVENT
END:VCALENDAR