BEGIN:VCALENDAR
VERSION:2.0
PRODID:https://github.com/derhansen/sf_event_mgt
METHOD:PUBLISH
BEGIN:VEVENT
UID:14821-611@www.maine-et-loire.fr
CLASS: PUBLIC
SUMMARY:Créer un herbier
DESCRIPTION:Dans le cadre des Rendez-vous nature 2026.\n\nGuidés par une h
 erboriste, venez découvrir la flore locale et l'art de confectionner un h
 erbier. Une occasion créative d’apprendre la botanique, des conditions 
 idéales pour mieux retenir…
LOCATION:Le Moulin
Villemoisan
DTSTAMP:20260209T153547Z
DTSTART:20260717T115539Z
DTEND:20260717T115539Z
END:VEVENT
END:VCALENDAR