BEGIN:VCALENDAR
VERSION:2.0
PRODID:https://github.com/derhansen/sf_event_mgt
METHOD:PUBLISH
BEGIN:VEVENT
UID:14748-611@www.maine-et-loire.fr
CLASS: PUBLIC
SUMMARY:Créons avec la nature
DESCRIPTION:Dans le cadre des Rendez-vous nature 2026.\n\nDéfiez votre ima
 gination et votre créativité pour découvrir que la nature donne vie à 
 de nombreux objets (monstres des bois en argile, Tataki-zomé, contes).
LOCATION:Port Albert
DTSTAMP:20260209T152613Z
DTSTART:20260530T115539Z
DTEND:20260530T115539Z
END:VEVENT
END:VCALENDAR