BEGIN:VCALENDAR
VERSION:2.0
PRODID:https://github.com/derhansen/sf_event_mgt
METHOD:PUBLISH
BEGIN:VEVENT
UID:14894-611@www.maine-et-loire.fr
CLASS: PUBLIC
SUMMARY:Croquis de paysage et couleurs
DESCRIPTION:Dans le cadre des Rendez-vous nature 2026.\n\nDessine moi un…
  Approche de la lecture de paysage par le dessin. Venez découvrir l’his
 toire particulière des bocages et mares de l’ouest d’Angers, puis, à
  travers le dessin et le croquis de paysage, imprégnez vous de cette natu
 re préservée ! Croquis de paysage et mise en couleurs : aquarellez un 
 joli coin de nature !
LOCATION:La Monnière
1574 route des Landes
DTSTAMP:20260209T154438Z
DTSTART:20260927T115540Z
DTEND:20260927T115540Z
END:VEVENT
END:VCALENDAR