BEGIN:VCALENDAR
VERSION:2.0
PRODID:https://github.com/derhansen/sf_event_mgt
METHOD:PUBLISH
BEGIN:VEVENT
UID:14717-611@www.maine-et-loire.fr
CLASS: PUBLIC
SUMMARY:Croquis de paysage
DESCRIPTION:Dans le cadre des Rendez-vous nature 2026.\n\nVenez vous initie
 r au croquis en plein air en parcourant les côteaux. Une occasion origina
 le de prendre le temps d'observer les paysages et de s'exercer à différe
 ntes techniques de représentation. Venez avec vos carnets de croquis, le 
 reste du matériel est fourni.
LOCATION:Parking du Pont Barré
DTSTAMP:20260209T152230Z
DTSTART:20260509T115539Z
DTEND:20260509T115539Z
END:VEVENT
END:VCALENDAR