BEGIN:VCALENDAR
VERSION:2.0
PRODID:https://github.com/derhansen/sf_event_mgt
METHOD:PUBLISH
BEGIN:VEVENT
UID:14729-611@www.maine-et-loire.fr
CLASS: PUBLIC
SUMMARY:Cueillettes thÃ©Ã¢trales
DESCRIPTION:Dans le cadre des Rendez-vous nature 2026.\n\nLa dÃ©couverte de
 s plantes, de leurs rÃ´les, des usages, la dÃ©construction de prÃ©jugÃ©s e
 t la connaissance des services quâ€™elles nous rendent sera le fil conduct
 eur de cette balade. Vivez un instant suspendu, pour prendre du recul, grÃ
 ¢ce Ã  lâ€™art et aux connaissances, sur ces environnement Ã  prÃ©server. 
 En plus d'un atelier artistique pour fabriquer son herbier, Ã  partir de l
 a nature environnante, mais aussi de l'imaginaire, participez Ã  une balad
 e thÃ©Ã¢tralisÃ©e afin dâ€™affermir vos connaissances. Les plus jeunes et 
 les personnes ne pouvant / souhaitant pas effectuer la balade continueront
  de rÃ©aliser lâ€™herbier artistique, encadrÃ© par les membres de l'Ã©quip
 e. Au retour de la balade, les participants pourront noter sur lâ€™herbier
 , et ainsi transmettre Ã  ceux ne lâ€™ayant pas faite, les anecdotes enten
 dues en cours de route.
LOCATION:Chemin des Belligans
DTSTAMP:20260209T152430Z
DTSTART:20260523T115539Z
DTEND:20260523T115539Z
END:VEVENT
END:VCALENDAR