BEGIN:VCALENDAR
VERSION:2.0
PRODID:https://github.com/derhansen/sf_event_mgt
METHOD:PUBLISH
BEGIN:VEVENT
UID:14875-611@www.maine-et-loire.fr
CLASS: PUBLIC
SUMMARY:Cueillettes théâtrales
DESCRIPTION:Dans le cadre des Rendez-vous nature 2026.\n\nLa découverte de
 s plantes, de leurs rôles et leur utilité sera le fil conducteur de notr
 e balade. En plus d'une balade théâtralisée, participez à un atelier a
 rtistique pour fabriquer votre herbier. Au bout de 20 minutes, le groupe p
 artira en balade théâtralisée afin d’affermir leur connaissance penda
 nt que les plus jeunes et les personnes ne pouvant / souhaitant pas effect
 uer la balade continueront de réaliser l’herbier artistique, encadré p
 ar les membres de l'équipe. Au retour de la balade, les participants pour
 ront noter sur l’herbier, et ainsi transmettre à ceux ne l’ayant pas 
 faite, les anecdotes entendues en cours de route.
LOCATION:Chemin des Belligans
DTSTAMP:20260216T141141Z
DTSTART:20261010T115500Z
DTEND:20261010T115500Z
END:VEVENT
END:VCALENDAR