BEGIN:VCALENDAR
VERSION:2.0
PRODID:https://github.com/derhansen/sf_event_mgt
METHOD:PUBLISH
BEGIN:VEVENT
UID:13810-569@www.maine-et-loire.fr
CLASS: PUBLIC
SUMMARY:Danser dans mon petit salon sans me poser de questions
DESCRIPTION:Seul en scène poétique et dansé qui questionne la notion de 
 virilité. « Le plus naïvement possible, je me lance dans une investigat
 ion sur le concept de virilité. En conversant autour de moi, en collectan
 t des paroles, en écrivant, en lisant, en bougeant mon corps dans des cul
 ottes en dentelle, en satinette, en ouatine, pour hommes bien sûr. »\n\n
 Le décor c’est… un salon. Il est coloré, il est beau, il est irréel
 .\n\nLe texte, c’est un poème-mosaïque. Il y a les paroles recueillies
 , il y a son journal de bord tout au long de cette recherche, et même des
  choses repêchées dans sa mémoire d’adolescent.\n\nLa danse essaye de
  se délester des codes sexués, elle aussi.\n\nÀ la fin de Danser dans m
 on petit salon, il peut y avoir des participant·e·s invité·e·s à env
 ahir l’espace scénique pour une dernière séquence en deux temps.
LOCATION:Maison de la Culture et des Loisirs
Rue du Grand Pin
DTSTAMP:20250929T132425Z
DTSTART:20260528T220000Z
DTEND:20260528T220000Z
END:VEVENT
END:VCALENDAR