BEGIN:VCALENDAR
VERSION:2.0
PRODID:https://github.com/derhansen/sf_event_mgt
METHOD:PUBLISH
BEGIN:VEVENT
UID:14216-570@www.maine-et-loire.fr
CLASS: PUBLIC
SUMMARY:De corps et de cordes
DESCRIPTION:Dans un décor de cordes suspendues, trois sœurs tissent le fi
 l de la vie.\n\nAcrobaties suspendues, danses, jeux visuels et musique don
 nent vie à ces tableaux cousus et brodés à plusieurs mains.
LOCATION:Salle Saint Michel
7C Rue Louis Touchet
DTSTAMP:20251230T083822Z
DTSTART:20260505T220000Z
DTEND:20260505T220000Z
END:VEVENT
END:VCALENDAR