BEGIN:VCALENDAR
VERSION:2.0
PRODID:https://github.com/derhansen/sf_event_mgt
METHOD:PUBLISH
BEGIN:VEVENT
UID:14919-611@www.maine-et-loire.fr
CLASS: PUBLIC
SUMMARY:Découverte des champignons
DESCRIPTION:Dans le cadre des Rendez-vous nature 2026.\n\nInitiation à la 
 cueillette des champignons avec les bonnes pratiques du cueilleur. Découv
 erte d’espèces comestibles et toxiques, du lien entre arbres et champig
 nons, puis dégustation d’une tisane artisanale
LOCATION:Parking visiteur placette en forme de fer à cheval
DTSTAMP:20260209T154727Z
DTSTART:20261024T115540Z
DTEND:20261024T115540Z
END:VEVENT
END:VCALENDAR