BEGIN:VCALENDAR
VERSION:2.0
PRODID:https://github.com/derhansen/sf_event_mgt
METHOD:PUBLISH
BEGIN:VEVENT
UID:14338-569@www.maine-et-loire.fr
CLASS: PUBLIC
SUMMARY:Découverte des champignons
DESCRIPTION:Animation 123 balades! de l'association Horizon Bocage\n\n\n\nV
 ous êtes amener à partir à la découverte des champignons dans le parc 
 du château du Martreil. Jean-Claude, mycologue, vous guidera dans une bal
 ade pour comprendre les champignons et leur présence dans les milieux nat
 urels.\n\n\n\nInscription au 07.67.49.03.82 ou horizonbocage@gmail.com
LOCATION:Parc du château du Martreil (Sainte Christine)
DTSTAMP:20260120T112144Z
DTSTART:20261106T230000Z
DTEND:20261106T230000Z
END:VEVENT
END:VCALENDAR