BEGIN:VCALENDAR
VERSION:2.0
PRODID:https://github.com/derhansen/sf_event_mgt
METHOD:PUBLISH
BEGIN:VEVENT
UID:14731-611@www.maine-et-loire.fr
CLASS: PUBLIC
SUMMARY:DÃ©couverte des insectes
DESCRIPTION:Dans le cadre des Rendez-vous nature 2026.\n\nEn famille, venez
  dÃ©couvrir et observer les insectes autour de lâ€™Ã©tang de PÃ©ronne. Rec
 herche, observation identification des diffÃ©rents groupes dâ€™insectes pr
 Ã©sents, petit jeu ou explication pour connaÃ®tre le cycle de vie de diffÃ
 ©rentes espÃ¨ces seront au rendez-vous.
LOCATION:Parking de l'Ã©tang de PÃ©ronne
DTSTAMP:20260209T152440Z
DTSTART:20260523T115539Z
DTEND:20260523T115539Z
END:VEVENT
END:VCALENDAR