BEGIN:VCALENDAR
VERSION:2.0
PRODID:https://github.com/derhansen/sf_event_mgt
METHOD:PUBLISH
BEGIN:VEVENT
UID:14806-611@www.maine-et-loire.fr
CLASS: PUBLIC
SUMMARY:Découverte des oiseaux
DESCRIPTION:Dans le cadre des Rendez-vous nature 2026.\n\nÉquipés de jume
 lles, partez observer les oiseaux de la confluence.\n\nLes enfants doivent
  obligatoirement être accompagnés par un adulte.
LOCATION:2 promenade de la Reculée
DTSTAMP:20260209T153424Z
DTSTART:20260709T115539Z
DTEND:20260709T115539Z
END:VEVENT
END:VCALENDAR