BEGIN:VCALENDAR
VERSION:2.0
PRODID:https://github.com/derhansen/sf_event_mgt
METHOD:PUBLISH
BEGIN:VEVENT
UID:14763-611@www.maine-et-loire.fr
CLASS: PUBLIC
SUMMARY:Découverte des plantes sonores
DESCRIPTION:Dans le cadre des Rendez-vous nature 2026.\n\nEt si les plantes
  parlaient ? Changez vos regards sur le vivant, et partez à la (re)décou
 verte de vos sens, au travers d'un atelier immersif en pleine nature.
LOCATION:Fédération de la pêche
Brissac-Quincé
DTSTAMP:20260209T152804Z
DTSTART:20260606T115539Z
DTEND:20260606T115539Z
END:VEVENT
END:VCALENDAR