BEGIN:VCALENDAR
VERSION:2.0
PRODID:https://github.com/derhansen/sf_event_mgt
METHOD:PUBLISH
BEGIN:VEVENT
UID:14890-611@www.maine-et-loire.fr
CLASS: PUBLIC
SUMMARY:Découverte des reptiles
DESCRIPTION:Dans le cadre des Rendez-vous nature 2026.\n\nVenez découvrir 
 les reptiles de l'Espace naturel sensible de la forêt de Chambiers : les 
 espèces, leurs habitats, leurs modes de vie, leur protection...
LOCATION:Parking communal, face au 2147 Chambiers
DTSTAMP:20260209T154417Z
DTSTART:20260926T115540Z
DTEND:20260926T115540Z
END:VEVENT
END:VCALENDAR