BEGIN:VCALENDAR
VERSION:2.0
PRODID:https://github.com/derhansen/sf_event_mgt
METHOD:PUBLISH
BEGIN:VEVENT
UID:14803-611@www.maine-et-loire.fr
CLASS: PUBLIC
SUMMARY:Découvrons la biodiversité
DESCRIPTION:Dans le cadre des Rendez-vous nature 2026.\n\nPromenez vous au 
 fil de l'eau et découvrez les habitants de l'étang de Montayer. La balad
 e sera rythmée par des activités ludiques.\n\nLes enfants doivent obliga
 toirement être accompagnés par un adulte.
LOCATION:Maison Pêche Nature
DTSTAMP:20260209T153351Z
DTSTART:20260708T115539Z
DTEND:20260708T115539Z
END:VEVENT
END:VCALENDAR