BEGIN:VCALENDAR
VERSION:2.0
PRODID:https://github.com/derhansen/sf_event_mgt
METHOD:PUBLISH
BEGIN:VEVENT
UID:14856-611@www.maine-et-loire.fr
CLASS: PUBLIC
SUMMARY:Découvrons la biodiversité
DESCRIPTION:Dans le cadre des Rendez-vous nature 2026.\n\nPromenez-vous au 
 fil de l'eau et découvrez les habitants de l'étang de Péronne. La balad
 e sera rythmée par des activités ludiques.\n\nLes enfants doivent obliga
 toirement être accompagnés par un adulte.
LOCATION:Parking de l'étang de Péronne
14 avenue Maudet
DTSTAMP:20260209T154104Z
DTSTART:20260825T115539Z
DTEND:20260825T115539Z
END:VEVENT
END:VCALENDAR