BEGIN:VCALENDAR
VERSION:2.0
PRODID:https://github.com/derhansen/sf_event_mgt
METHOD:PUBLISH
BEGIN:VEVENT
UID:15314-569@www.maine-et-loire.fr
CLASS: PUBLIC
SUMMARY:Demi-finale des championnats de France d'escalade de difficulté.
DESCRIPTION:La demi-finale nord des championnats de France d’escalade de 
 difficulté se déroulera le samedi 2 et dimanche 3 mai 2026 au complexe A
 uguste Grégoire de Cholet.\n\nProgramm :\n\nSamedi 2 mai 2026\n\nCatégor
 ies U15 et seniors\n\n 	Qualifications : de 8 h à 14 h 45 	Finale : à pa
 rtir de 16 h 15 	Podiums : à 18 h 20 \n\nDimanche 3 mai 2026\n\nCatégori
 es U17 et U19\n\n 	Qualifications : de 7 h 30 à 14 h 15 	Finale : à part
 ir de 15 h 15 	Podiums : à 17 h 20 \n\n560 compétiteurs sont attendus su
 r les deux jours.\n\nCet événement est gratuit et sans réservation.\n\n
 Restauration et buvette sur place.\n\nOrganisateurs : L’AESM Cholet (Ass
 ociation d'Escalade et Sports de Montagne) en partenariat avec le CAF Chol
 et (Club Alpin Choletais).
LOCATION:Salle Auguste Grégoire
41 boulevard Victor Hugo
DTSTAMP:20260420T091917Z
DTSTART:20260501T220000Z
DTEND:20260502T220000Z
END:VEVENT
END:VCALENDAR