BEGIN:VCALENDAR
VERSION:2.0
PRODID:https://github.com/derhansen/sf_event_mgt
METHOD:PUBLISH
BEGIN:VEVENT
UID:14695-611@www.maine-et-loire.fr
CLASS: PUBLIC
SUMMARY:Des fleurs et des bestioles
DESCRIPTION:Dans le cadre des Rendez-vous nature 2026.\n\nLaetitia et Amél
 ie vous invite à venir vivre une expérience de découverte et de reconna
 issance autour des petites bêtes et des plantes sauvages. Cette sortie es
 t l’occasion de vivre un moment en famille et de mettre ses sens en éve
 il pour mieux connaitre et comprendre l’environnement proche de chacun. 
 Objectifs et messages : proposer un moment convivial autour de la thémati
 que des petites bêtes et des plantes qui leur sont associées transmettre
  autour des savoirs ancestraux liés aux plantes sauvages apprendre en jou
 ant mobiliser le plus grand nombre afin de mieux connaitre les plantes et 
 les petites bêtes qui vivent à leurs côtés sensibiliser autour des sci
 ences participatives et valoriser les découvertes d’êtres vivants par 
 l’envoi de nos données à l’Institut national du patrimoine naturel (
 INPN).
LOCATION:Parking du Centre Culturel Jean Carmet
DTSTAMP:20260209T151157Z
DTSTART:20260423T115539Z
DTEND:20260423T115539Z
END:VEVENT
END:VCALENDAR