BEGIN:VCALENDAR
VERSION:2.0
PRODID:https://github.com/derhansen/sf_event_mgt
METHOD:PUBLISH
BEGIN:VEVENT
UID:14807-611@www.maine-et-loire.fr
CLASS: PUBLIC
SUMMARY:Des fleurs et des bestioles
DESCRIPTION:Dans le cadre des Rendez-vous nature 2026.\n\nVivez une expÃ©ri
 ence de dÃ©couverte et de reconnaissance autour des petites bÃªtes et des 
 plantes sauvages. Cette sortie est lâ€™occasion de vivre un moment en fami
 lle et de mettre ses sens en Ã©veil pour mieux connaÃ®tre et comprendre lâ
 €™environnement. Vous dÃ©couvrirez des savoirs ancestraux liÃ©s aux plante
 s sauvages grÃ¢ce aux sciences participatives.
LOCATION:Maison des Associations
Place du Calvaire
DTSTAMP:20260209T153429Z
DTSTART:20260710T115539Z
DTEND:20260710T115539Z
END:VEVENT
END:VCALENDAR