BEGIN:VCALENDAR
VERSION:2.0
PRODID:https://github.com/derhansen/sf_event_mgt
METHOD:PUBLISH
BEGIN:VEVENT
UID:14686-611@www.maine-et-loire.fr
CLASS: PUBLIC
SUMMARY:Des fleurs et des bestioles
DESCRIPTION:Dans le cadre des Rendez-vous nature 2026.\n\nUne invitation à
  venir vivre une expérience de découverte et de reconnaissance autour de
 s petites bêtes et des plantes sauvages. Cette sortie est l’occasion de
  vivre un moment en famille et de mettre ses sens en éveil pour mieux con
 naitre et comprendre l’environnement proche de chacun. 
LOCATION:Maison de l'environnement
DTSTAMP:20260209T151104Z
DTSTART:20260421T115539Z
DTEND:20260421T115539Z
END:VEVENT
END:VCALENDAR