BEGIN:VCALENDAR
VERSION:2.0
PRODID:https://github.com/derhansen/sf_event_mgt
METHOD:PUBLISH
BEGIN:VEVENT
UID:14824-611@www.maine-et-loire.fr
CLASS: PUBLIC
SUMMARY:Dessiner les arbres
DESCRIPTION:Dans le cadre des Rendez-vous nature 2026.\n\nInitiez-vous au c
 roquis en plein air autour du thème des arbres. Une occasion originale de
  prendre le temps d'observer leur beauté et de s'exercer à différentes 
 techniques de représentation.\n\nVenez avec vos carnets de croquis, le re
 ste du matériel est fourni.
LOCATION:Entrée du château
DTSTAMP:20260209T153603Z
DTSTART:20260718T115539Z
DTEND:20260718T115539Z
END:VEVENT
END:VCALENDAR