BEGIN:VCALENDAR
VERSION:2.0
PRODID:https://github.com/derhansen/sf_event_mgt
METHOD:PUBLISH
BEGIN:VEVENT
UID:14743-611@www.maine-et-loire.fr
CLASS: PUBLIC
SUMMARY:Dessins naturalistes à l'aquarelle
DESCRIPTION:Dans le cadre des Rendez-vous nature 2026.\n\nDéambulez pour c
 hoisir les sujets à illustrer, glanez, au passage, quelques plantes pour 
 fabriquer vos propres couleurs. Observer, cueillir, transformer et dessine
 r à l'aquarelle !
LOCATION:Port Albert
DTSTAMP:20260209T152546Z
DTSTART:20260530T115539Z
DTEND:20260530T115539Z
END:VEVENT
END:VCALENDAR