BEGIN:VCALENDAR
VERSION:2.0
PRODID:https://github.com/derhansen/sf_event_mgt
METHOD:PUBLISH
BEGIN:VEVENT
UID:15164-569@www.maine-et-loire.fr
CLASS: PUBLIC
SUMMARY:Distribution de graines – Marché des Perrochères
DESCRIPTION:Fleurissement de pieds de murs\n\nDistribution gratuite de grai
 nes par l'association Horizon Bocage, Pour ne plus désherber devant chez 
 soi ou le long d’un mur. Technique naturelle pour empêcher la prolifér
 ation d’herbes indésirables sans utiliser de pesticides. Contribuer à 
 l’embellissement de sa ville. Offrir le repas aux insectes pollinisateur
 s en semant des fleurs mellifères.
LOCATION:Place des Pérrochères
Marché du jeudi
DTSTAMP:20260311T080958Z
DTSTART:20260909T220000Z
DTEND:20260909T220000Z
END:VEVENT
END:VCALENDAR