BEGIN:VCALENDAR
VERSION:2.0
PRODID:https://github.com/derhansen/sf_event_mgt
METHOD:PUBLISH
BEGIN:VEVENT
UID:14883-611@www.maine-et-loire.fr
CLASS: PUBLIC
SUMMARY:Du fusain et du paysage
DESCRIPTION:Dans le cadre des Rendez-vous nature 2026.\n\nApprenez à fabri
 quer votre matériel de dessin grâce et au cœur de la nature ! Lors de c
 et atelier, vous découvrirez comment créer des bâtonnets de fusains pou
 r croquer les paysages qui vous entourent. Couleurs Buissonnières est un 
 duo aux compétences botaniques et artistiques, dans le but de sensibilise
 r à l’écologie dans les arts visuels et valoriser la relation art / na
 ture.
LOCATION:Centre aéré du chêne fournier
DTSTAMP:20260209T154338Z
DTSTART:20260923T115540Z
DTEND:20260923T115540Z
END:VEVENT
END:VCALENDAR