BEGIN:VCALENDAR
VERSION:2.0
PRODID:https://github.com/derhansen/sf_event_mgt
METHOD:PUBLISH
BEGIN:VEVENT
UID:15221-569@www.maine-et-loire.fr
CLASS: PUBLIC
SUMMARY:Empreintes végétales - Atelier Tatakizomé
DESCRIPTION:Participez à notre atelier d'initiation au « Tataki Zomé » 
 vous permettant, après une sortie botanique et cueillette, de réaliser u
 ne impression sur tissu en martelant des végétaux et repartez avec votre
  création.\n\nLe « Tataki Zomé » est une technique d'art textile ancie
 nne qui utilise les pigments naturels des plantes pour teindre les fibres 
 de papier et de tissus.\n\nAtelier animé par Emilie de l’Atelier Cueill
 ette Sauvage.\n\n\n\n
LOCATION:Maison de la Nature du Layon
16, rue de la Coudraye
Saint-Lambert-du-Lattay
DTSTAMP:20260323T081434Z
DTSTART:20260529T220000Z
DTEND:20260529T220000Z
END:VEVENT
END:VCALENDAR