BEGIN:VCALENDAR
VERSION:2.0
PRODID:https://github.com/derhansen/sf_event_mgt
METHOD:PUBLISH
BEGIN:VEVENT
UID:14834-611@www.maine-et-loire.fr
CLASS: PUBLIC
SUMMARY:En attendant les Ã©toiles
DESCRIPTION:Dans le cadre des Rendez-vous nature 2026.\n\nDÃ©couvrez le mon
 de sauvage et mystÃ©rieux de la nuit au rythme de contes et dâ€™observatio
 ns de la nature. PrÃ©voyez votre couverture pour terminer la soirÃ©e la tÃ
 ªte dans les Ã©toiles dâ€™un ciel dâ€™Ã©tÃ©.Â 
LOCATION:Au bout de la rue du Moulinaie
DTSTAMP:20260309T084024Z
DTSTART:20260806T115539Z
DTEND:20260806T115539Z
END:VEVENT
END:VCALENDAR