BEGIN:VCALENDAR
VERSION:2.0
PRODID:https://github.com/derhansen/sf_event_mgt
METHOD:PUBLISH
BEGIN:VEVENT
UID:14814-611@www.maine-et-loire.fr
CLASS: PUBLIC
SUMMARY:En quÃªte de discrÃ¨tes abeilles
DESCRIPTION:Dans le cadre des Rendez-vous nature 2026.\n\nSaviez-vous quâ€™
 il existe des centaines dâ€™espÃ¨ces dâ€™abeilles diffÃ©rentes dans notre 
 rÃ©gion ? Et quâ€™une dâ€™entre elles seulement vit dans des ruches, hÃ©be
 rgÃ©es par les apiculteurs... Câ€™est pour dÃ©couvrir ces discrÃ¨tes abeil
 les mÃ©connues que vous Ãªtes invitÃ© Ã  un moment de dÃ©couverte durant l
 equel vous allez participer Ã  une quÃªte naturaliste qui vous emmÃ¨nera d
 e fleurs en talus, dâ€™arbres en murets, en campagne et en ville, Ã  la dÃ
 ©couverte dâ€™un petit monde colorÃ© et bourdonnant. Au cours de cette rec
 herche, vous aborderez diffÃ©rents sujets liÃ©s Ã  la biologie de ces abei
 lles, mais aussi des aspects botaniques. Vous parlerez de coÃ©volution ent
 re les vÃ©gÃ©taux et les insectes pollinisateurs, de leurs modes communica
 tion, de lâ€™intÃ©rÃªt de la pollinisation dans notre alimentation de tous
  les jours. Et surtout, vous allez prendre le temps dâ€™observer ces abeil
 les qui ne piquent pas dans des endroits inattendus et surprenants. Et si 
 vous Ãªtes chanceux et attentifs, peut Ãªtre vous laisseront elles dÃ©couv
 rir leur secret le mieux gardÃ©â€¦\n\nPrÃ©voir chaussures de marche, vÃªte
 ments adaptÃ©s Ã  la mÃ©tÃ©o et un appareil photo.
LOCATION:Place de l'Ã©glise 
Vaulandry
DTSTAMP:20260209T153510Z
DTSTART:20260711T115539Z
DTEND:20260711T115539Z
END:VEVENT
END:VCALENDAR