BEGIN:VCALENDAR
VERSION:2.0
PRODID:https://github.com/derhansen/sf_event_mgt
METHOD:PUBLISH
BEGIN:VEVENT
UID:14758-611@www.maine-et-loire.fr
CLASS: PUBLIC
SUMMARY:En-quête d'Hirondelle
DESCRIPTION:Dans le cadre des Rendez-vous nature 2026.\n\nL'Hirondelle de f
 enêtre revient tous les printemps sur la Loire pour faire son nid... Sur 
 le pont de la ligne de chemin de fer de La Possonnière ! Venez observer l
 a colonie et découvrir le mode de vie de cette espèce.
LOCATION:Chemin du pont de Cholet
DTSTAMP:20260209T152738Z
DTSTART:20260605T115539Z
DTEND:20260605T115539Z
END:VEVENT
END:VCALENDAR