BEGIN:VCALENDAR
VERSION:2.0
PRODID:https://github.com/derhansen/sf_event_mgt
METHOD:PUBLISH
BEGIN:VEVENT
UID:14772-611@www.maine-et-loire.fr
CLASS: PUBLIC
SUMMARY:ENS Challenge
DESCRIPTION:L’Évènement Naturellement Sportif fait son grand retour le 
 dimanche 6 juin 2026 ! Peut-être avez-vous pu participer aux éditions pr
 écédentes ? Il s’agit d’un challenge amical sur un parcours d’envi
 ron 30 km, ayant pour but de faire découvrir aux participants les Espaces
  naturels sensibles du territoire de l’Anjou, au travers de 3 discipline
 s sportives : la marche, le canoë, et le vélo… Un périple d’environ
  30 km entrecoupé d’animations nature à réaliser à votre rythme.\n\n
 Au programme :\n\n 	Dépôt des vélos personnels aux Ponts-de-Cé ( base 
 de canoës) par les participants ; 	Rejoindre Andard (avec sac de changes 
 et pique-nique) ; 	Départ. marche 6 km; 	Arrivée à La Bohalle pour 12 k
 m de canoë ; 	Parcours vélo de 15 km entre les Ponts-de-Cé et Andard ; 
 	Arrivée à Andard avec animations et mini concerts de Rives d'été. \n\
 nRamer, marcher, pédaler et s’aventurer !\n\nPrévoir un vélo individu
 el, des chaussures fermées, une petite serviette et votre déjeuner.
LOCATION:Parking Jeanne de Lava
2 rue du stade Andard
DTSTAMP:20260209T152856Z
DTSTART:20260606T115539Z
DTEND:20260606T115539Z
END:VEVENT
END:VCALENDAR