BEGIN:VCALENDAR
VERSION:2.0
PRODID:https://github.com/derhansen/sf_event_mgt
METHOD:PUBLISH
BEGIN:VEVENT
UID:14720-611@www.maine-et-loire.fr
CLASS: PUBLIC
SUMMARY:Entre Ãˆvre et Loire
DESCRIPTION:Dans le cadre des Rendez-vous nature 2026.\n\nDÃ©couvrez la bio
 diversitÃ© de l'ÃŽle aux bergÃ¨res, la seule Ã®le situÃ©e entre Ãˆvre et L
 oire. Plusieurs dÃ©parts de groupes auront lieu tout au long de l'aprÃ¨s-m
 idi entre 14 h et 17 h. Comptez 1 h 30 Ã  2 pour faire le tour accompagnÃ©
 s de naturalistes, conteurs et dessinateurs. Vous descendrez au plus prÃ¨s
  de la Loire d'un cÃ´tÃ© et remonterez au niveau de la confluence avec l'Ã
 ˆvre de l'autre. Tour Ã  tour, les naturalistes vous informeront sur des e
 spÃ¨ces qui nichent prÃ©cisÃ©ment ici, les conteurs vous berceront d'histo
 ires rÃ©elles ou imaginÃ©es et vous apprendrez Ã  dessiner deux espÃ¨ces a
 vec les dessinateurs. En outre, vous repartirez avec une brochure pÃ©dagog
 ique crÃ©Ã©e pour l'Ã©vÃ©nement. Prenez vos crayons et carnet de croquis s
 i vous le souhaitez.
LOCATION:ÃŽle aux bergÃ¨res
DTSTAMP:20260209T152342Z
DTSTART:20260510T115539Z
DTEND:20260510T115539Z
END:VEVENT
END:VCALENDAR