BEGIN:VCALENDAR
VERSION:2.0
PRODID:https://github.com/derhansen/sf_event_mgt
METHOD:PUBLISH
BEGIN:VEVENT
UID:15059-1587@www.maine-et-loire.fr
CLASS: PUBLIC
SUMMARY:Entre mémoire et oubli : quelques gisants médiévaux en Anjou
DESCRIPTION:Cette conférence sera animée par Bénédicte Fillion-Braguet,
  docteure en histoire de l'art médiéval. Elle présentera les gisants, s
 culptures funéraires représentant un personnage couché, que l'on peut t
 rouver en Anjou, notamment dans l'abbaye royale de Fontevraud.
LOCATION:Archives départementales de Maine-et-Loire 
106, rue de Frémur
DTSTAMP:20260203T135807Z
DTSTART:20261117T170000Z
DTEND:20261117T190000Z
END:VEVENT
END:VCALENDAR