BEGIN:VCALENDAR
VERSION:2.0
PRODID:https://github.com/derhansen/sf_event_mgt
METHOD:PUBLISH
BEGIN:VEVENT
UID:13656-570@www.maine-et-loire.fr
CLASS: PUBLIC
SUMMARY:Et si tu danses
DESCRIPTION:Poucet a grandi et il a besoin des enfants pour retrouver le ch
 emin de ses souvenirs. Alors Stanislas Siwiorek, comédien-danseur, interp
 elle le public et transforme leurs confidences en une danse.
LOCATION:1 Rue Jean Gilles
DTSTAMP:20250624T123224Z
DTSTART:20260526T220000Z
DTEND:20260526T220000Z
END:VEVENT
END:VCALENDAR