BEGIN:VCALENDAR
VERSION:2.0
PRODID:https://github.com/derhansen/sf_event_mgt
METHOD:PUBLISH
BEGIN:VEVENT
UID:14768-611@www.maine-et-loire.fr
CLASS: PUBLIC
SUMMARY:Étape Science Tour
DESCRIPTION:Dans le cadre des Rendez-vous nature 2026.\n\nAu programme : un
 e exposition interactive et des expériences ludiques gratuites à destina
 tion des petits et grands pour comprendre les interactions entre les activ
 ités humaines et la qualité des milieux aquatiques continentaux. 
LOCATION:Bords de l'Authion
Rue du Stade
Andard
DTSTAMP:20260209T152832Z
DTSTART:20260606T115539Z
DTEND:20260606T115539Z
END:VEVENT
END:VCALENDAR