BEGIN:VCALENDAR
VERSION:2.0
PRODID:https://github.com/derhansen/sf_event_mgt
METHOD:PUBLISH
BEGIN:VEVENT
UID:14870-611@www.maine-et-loire.fr
CLASS: PUBLIC
SUMMARY:État de nature
DESCRIPTION:Dans le cadre des Rendez-vous nature 2026.\n\nDans État de nat
 ure, la Rainette, le Héron, les poissons-chats, les castors ou les libell
 ules sont tous des citoyens d'une société bien établie. Une invitation 
 à découvrir cette société, ses enjeux et ses habitants.
LOCATION:Jardins de la bibliothèque-cantine
Blaison-Gohier
DTSTAMP:20260209T154222Z
DTSTART:20260904T115540Z
DTEND:20260904T115540Z
END:VEVENT
END:VCALENDAR